BEGIN:VCALENDAR
VERSION:2.0
PRODID:icalendar-ruby
CALSCALE:GREGORIAN
METHOD:PUBLISH
BEGIN:VEVENT
DTSTAMP:20260424T231748Z
UID:9-275205@widowsoilministries.com
DTSTART:20261004T153000Z
DTEND:20261004T163000Z
CLASS:PUBLIC
CREATED:20260424T140857
DESCRIPTION:
LAST-MODIFIED:20260424T140857
LOCATION:Booker Washington Heights Cultural Arts Center\, 2611 Grant Street
 \, Columbia\, SC 29203
SUMMARY:Sunday Service - Praise & Worship
URL;VALUE=URI:https://widowsoilministries.com/events/sunday-service-praise-
 worship/2026-10-04
ATTACH;FILENAME=MIXED-GROUP-PRAISING-IN-CHURCH.jpg;FMTTYPE=image/jpeg:https
 ://dq5pwpg1q8ru0.cloudfront.net/2025/07/16/20/35/38/ffafedad-9aaa-4614-99c
 5-40a57dde2e8c/MIXED-GROUP-PRAISING-IN-CHURCH.jpg
END:VEVENT
END:VCALENDAR
