BEGIN:VCALENDAR
VERSION:2.0
PRODID:icalendar-ruby
CALSCALE:GREGORIAN
METHOD:PUBLISH
BEGIN:VEVENT
DTSTAMP:20260424T163700Z
UID:9-274937@widowsoilministries.com
DTSTART:20260906T153000Z
DTEND:20260906T163000Z
CLASS:PUBLIC
CREATED:20260424T083527
DESCRIPTION:
LAST-MODIFIED:20260424T083527
LOCATION:Booker Washington Heights Cultural Arts Center\, 2611 Grant Street
 \, Columbia\, SC 29203
SUMMARY:Sunday Service - Praise & Worship
URL;VALUE=URI:https://widowsoilministries.com/events/sunday-service-praise-
 worship/2026-09-06
ATTACH;FILENAME=MIXED-GROUP-PRAISING-IN-CHURCH.jpg;FMTTYPE=image/jpeg:https
 ://dq5pwpg1q8ru0.cloudfront.net/2025/07/16/20/35/38/ffafedad-9aaa-4614-99c
 5-40a57dde2e8c/MIXED-GROUP-PRAISING-IN-CHURCH.jpg
END:VEVENT
END:VCALENDAR
