BEGIN:VCALENDAR
VERSION:2.0
PRODID:icalendar-ruby
CALSCALE:GREGORIAN
METHOD:PUBLISH
BEGIN:VEVENT
DTSTAMP:20260424T145955Z
UID:10-274867@widowsoilministries.com
DTSTART:20260813T010000Z
DTEND:20260813T020000Z
CLASS:PUBLIC
CREATED:20260424T054243
DESCRIPTION:Bible Study
LAST-MODIFIED:20260424T054243
LOCATION:Starting December 3rd. - New Meeting Place (200 Berkshire Drive\, 
 Columbia\, SC 29203)
SUMMARY:Bible Study
URL;VALUE=URI:https://widowsoilministries.com/events/bible-study/2026-08-12
ATTACH;FILENAME=diverse-men-and-women-studying-the-bible-together.jpg;FMTTY
 PE=image/jpeg:https://dq5pwpg1q8ru0.cloudfront.net/2025/07/16/21/01/03/3df
 ea2d6-021f-4389-9846-9cac6fed6dd2/diverse-men-and-women-studying-the-bible
 -together.jpg
END:VEVENT
END:VCALENDAR
